BEGIN:VCALENDAR
VERSION:2.0
PRODID:-//Chester Public Library - ECPv6.15.17//NONSGML v1.0//EN
CALSCALE:GREGORIAN
METHOD:PUBLISH
X-WR-CALNAME:Chester Public Library
X-ORIGINAL-URL:https://www.chesterpubliclibrary.com
X-WR-CALDESC:Events for Chester Public Library
REFRESH-INTERVAL;VALUE=DURATION:PT1H
X-Robots-Tag:noindex
X-PUBLISHED-TTL:PT1H
BEGIN:VTIMEZONE
TZID:America/Chicago
BEGIN:DAYLIGHT
TZOFFSETFROM:-0600
TZOFFSETTO:-0500
TZNAME:CDT
DTSTART:20240310T080000
END:DAYLIGHT
BEGIN:STANDARD
TZOFFSETFROM:-0500
TZOFFSETTO:-0600
TZNAME:CST
DTSTART:20241103T070000
END:STANDARD
BEGIN:DAYLIGHT
TZOFFSETFROM:-0600
TZOFFSETTO:-0500
TZNAME:CDT
DTSTART:20250309T080000
END:DAYLIGHT
BEGIN:STANDARD
TZOFFSETFROM:-0500
TZOFFSETTO:-0600
TZNAME:CST
DTSTART:20251102T070000
END:STANDARD
BEGIN:DAYLIGHT
TZOFFSETFROM:-0600
TZOFFSETTO:-0500
TZNAME:CDT
DTSTART:20260308T080000
END:DAYLIGHT
BEGIN:STANDARD
TZOFFSETFROM:-0500
TZOFFSETTO:-0600
TZNAME:CST
DTSTART:20261101T070000
END:STANDARD
BEGIN:DAYLIGHT
TZOFFSETFROM:-0600
TZOFFSETTO:-0500
TZNAME:CDT
DTSTART:20270314T080000
END:DAYLIGHT
BEGIN:STANDARD
TZOFFSETFROM:-0500
TZOFFSETTO:-0600
TZNAME:CST
DTSTART:20271107T070000
END:STANDARD
END:VTIMEZONE
BEGIN:VEVENT
DTSTART;TZID=America/Chicago:20251205T173000
DTEND;TZID=America/Chicago:20251205T190000
DTSTAMP:20260425T063522
CREATED:20251105T215730Z
LAST-MODIFIED:20251105T215730Z
UID:10001292-1764955800-1764961200@www.chesterpubliclibrary.com
SUMMARY:Wood Slices Ornaments Craft
DESCRIPTION:The whole family can join us to make a wood slice ornament. We will have wood burning tools\, paint\, and more. Any age can make beautiful ornaments.
URL:https://www.chesterpubliclibrary.com/event/wood-slices-ornaments-craft/
CATEGORIES:Adult,Ages 0-5,Ages 10+,Ages 5-10,Craft,Family Friendly,Teens
ATTACH;FMTTYPE=image/png:https://www.chesterpubliclibrary.com/wp-content/uploads/2025/11/Wood-Slices-Craft.png
END:VEVENT
BEGIN:VEVENT
DTSTART;TZID=America/Chicago:20251212T173000
DTEND;TZID=America/Chicago:20251212T193000
DTSTAMP:20260425T063522
CREATED:20251119T172628Z
LAST-MODIFIED:20251119T172628Z
UID:10001312-1765560600-1765567800@www.chesterpubliclibrary.com
SUMMARY:Interactive Movie: Elf
DESCRIPTION:Join us to watch a holiday classic in a whole new way! We will have treats\, prompts\, challenges\, take home goodies\, and more. Everyone is welcome but registration is required. Sign up below or by calling 826.3711
URL:https://www.chesterpubliclibrary.com/event/interactive-movie-elf/
CATEGORIES:Adult,Ages 0-5,Ages 10+,Ages 5-10,Family Friendly,Movie,Teens
ATTACH;FMTTYPE=image/png:https://www.chesterpubliclibrary.com/wp-content/uploads/2025/11/ELF-Interactive-Movie.png
END:VEVENT
BEGIN:VEVENT
DTSTART;TZID=America/Chicago:20260110T100000
DTEND;TZID=America/Chicago:20260110T120000
DTSTAMP:20260425T063522
CREATED:20250722T171728Z
LAST-MODIFIED:20251229T203003Z
UID:10001170-1768039200-1768046400@www.chesterpubliclibrary.com
SUMMARY:Lego & Building Day
DESCRIPTION:Drop in between 10:00 am and 12:00 pm on Saturday for LEGO Club. You can bring your own set to work on\, build something from the library’s LEGO\, or help us as we work on constructing the LEGO Hogwart’s Castle.
URL:https://www.chesterpubliclibrary.com/event/lego-club-3-2/
CATEGORIES:Ages 0-5,Ages 10+,Ages 5-10,Family Friendly,Teens
ATTACH;FMTTYPE=image/png:https://www.chesterpubliclibrary.com/wp-content/uploads/2025/07/Lego-Club-3.png
END:VEVENT
BEGIN:VEVENT
DTSTART;TZID=America/Chicago:20260113T153000
DTEND;TZID=America/Chicago:20260113T170000
DTSTAMP:20260425T063522
CREATED:20251229T202225Z
LAST-MODIFIED:20251229T202225Z
UID:10001334-1768318200-1768323600@www.chesterpubliclibrary.com
SUMMARY:Kids Craft: Snowstorm in a Jar
DESCRIPTION:Join us as we do a fun STEAM experiment and create a snowstorm in a jar! Fun for all ages! \nPlease register below or by calling 826.3711
URL:https://www.chesterpubliclibrary.com/event/kids-craft-snowstorm-in-a-jar/
CATEGORIES:Ages 0-5,Ages 10+,Ages 5-10,Craft,Family Friendly,STEM,Teens
ATTACH;FMTTYPE=image/png:https://www.chesterpubliclibrary.com/wp-content/uploads/2025/12/Snowstorm-in-a-Jar.png
END:VEVENT
BEGIN:VEVENT
DTSTART;TZID=America/Chicago:20260403T110000
DTEND;TZID=America/Chicago:20260403T120000
DTSTAMP:20260425T063522
CREATED:20260318T210803Z
LAST-MODIFIED:20260318T211926Z
UID:10001383-1775214000-1775217600@www.chesterpubliclibrary.com
SUMMARY:Easter Egg Dyeing
DESCRIPTION:Sign up to dye your own Easter eggs. Limit 2 per person unless you bring your own hard-boiled eggs. \nRegister below or by calling 826.3711
URL:https://www.chesterpubliclibrary.com/event/easter-egg-dyeing/
CATEGORIES:Adult,Ages 0-5,Ages 10+,Ages 5-10,Craft,Family Friendly,Food Activity,Teens
ATTACH;FMTTYPE=image/png:https://www.chesterpubliclibrary.com/wp-content/uploads/2026/03/Egg-Dyeing.png
END:VEVENT
BEGIN:VEVENT
DTSTART;TZID=America/Chicago:20260509T110000
DTEND;TZID=America/Chicago:20260509T120000
DTSTAMP:20260425T063522
CREATED:20260422T204032Z
LAST-MODIFIED:20260422T204032Z
UID:10001411-1778324400-1778328000@www.chesterpubliclibrary.com
SUMMARY:Forest Park Owls: Hiding In Plain Sight
DESCRIPTION:Mark H.X. Glenshaw is an award-winning naturalist who has closely observed and documented the lives of Great Horned Owls in Forest Park\, a large urban park in St. Louis\, Missouri\, since December 2005.  Mark’s engaging and educational talk will cover how he found these owls\, basic facts about the species\, and uses many of his photos and videos to illustrate the amazing behaviors of these beautiful birds.
URL:https://www.chesterpubliclibrary.com/event/forest-park-owls-hiding-in-plain-sight/
CATEGORIES:Adult,Ages 0-5,Ages 10+,Ages 5-10,Family Friendly,Special Presentation
ATTACH;FMTTYPE=image/png:https://www.chesterpubliclibrary.com/wp-content/uploads/2026/04/Owl-Program.png
END:VEVENT
END:VCALENDAR